BEGIN:VCALENDAR
VERSION:2.0
PRODID:-//Grand Lodge of the State of NY - ECPv6.15.20//NONSGML v1.0//EN
CALSCALE:GREGORIAN
METHOD:PUBLISH
X-WR-CALNAME:Grand Lodge of the State of NY
X-ORIGINAL-URL:https://ioofny.org
X-WR-CALDESC:Events for Grand Lodge of the State of NY
REFRESH-INTERVAL;VALUE=DURATION:PT1H
X-Robots-Tag:noindex
X-PUBLISHED-TTL:PT1H
BEGIN:VTIMEZONE
TZID:UTC
BEGIN:STANDARD
TZOFFSETFROM:+0000
TZOFFSETTO:+0000
TZNAME:UTC
DTSTART:20240101T000000
END:STANDARD
END:VTIMEZONE
BEGIN:VEVENT
DTSTART;TZID=UTC:20250503T080000
DTEND;TZID=UTC:20250505T170000
DTSTAMP:20260423T132334
CREATED:20241223T011352Z
LAST-MODIFIED:20241223T012956Z
UID:384-1746259200-1746464400@ioofny.org
SUMMARY:Pilgrimage to the Tomb of The Unknown Soldier
DESCRIPTION:Arlington National Cemetery hosts the IOOF and allows us to lays wreaths at the Tomb of the Unknown Soldier.\nMore details to come.
URL:https://ioofny.org/event/pilgrimage-to-the-tomb-of-the-unknown-soldier/
LOCATION:Arlington National Cemetary
ATTACH;FMTTYPE=image/jpeg:https://ioofny.org/wp-content/uploads/2024/12/tomb-1.jpg
END:VEVENT
BEGIN:VEVENT
DTSTART;VALUE=DATE:20250426
DTEND;VALUE=DATE:20250427
DTSTAMP:20260423T132334
CREATED:20250120T051644Z
LAST-MODIFIED:20250120T051644Z
UID:614-1745625600-1745711999@ioofny.org
SUMMARY:Founder’s Day
DESCRIPTION:Founder’s Day commemorates the 205th Anniversary of the founding of the Independent Order of Odd Fellows in Baltimore\, Maryland. All units of the Order are encouraged to hold special festivities in celebration of the day: Degree Day (name the class for someone in your jurisdiction)\, Anniversary Ball\, Community Work Project\, et cetera.
URL:https://ioofny.org/event/founders-day/
ATTACH;FMTTYPE=image/jpeg:https://ioofny.org/wp-content/uploads/2025/01/Odd-Fellows-Grand-Encampment-downtown-1913-6.jpg
END:VEVENT
BEGIN:VEVENT
DTSTART;VALUE=DATE:20250323
DTEND;VALUE=DATE:20250324
DTSTAMP:20260423T132334
CREATED:20241225T202612Z
LAST-MODIFIED:20241225T202927Z
UID:467-1742688000-1742774399@ioofny.org
SUMMARY:Schuyler Colfax Day
DESCRIPTION:The Rebekah Degree of Odd Fellowship was adopted in 1851\, and the degree was the work of the Honorable Schuyler Colfax\, who later served as Speaker of the House of Representatives and go on to serve as Vice President of the United States of America. Charles E. Lusk\, Sovereign Grand Master of the Independent Order of Odd Fellows\, proclaimed this day to honor of the birthday of Brother Colfax. Please observe the birthday of Brother Schuyler Colfax by initiating a ‘Colfax Class’ in honor of the celebration.
URL:https://ioofny.org/event/schuyler-colfax-day/
CATEGORIES:honor
ATTACH;FMTTYPE=image/jpeg:https://ioofny.org/wp-content/uploads/2024/12/Schuyler-Colfax-1698890921.jpeg
END:VEVENT
END:VCALENDAR